BEGIN:VCALENDAR
VERSION:2.0
PRODID:-//ipc-usa.org//NONSGML kigkonsult.se iCalcreator 2.30.10//
CALSCALE:GREGORIAN
METHOD:PUBLISH
UID:53e225e5-07b5-43bc-bbcd-269775bbac5e
X-WR-CALDESC:Volunteer with your family or a group to provide evening meals
  for the women and children staying at First Light. IPC will be providing 
 evening meals April 19-25.
X-WR-RELCALID:4c5a96f9218476c4428ec2f7868ae7d6
X-WR-TIMEZONE:America/Chicago
BEGIN:VTIMEZONE
TZID:America/Chicago
BEGIN:STANDARD
TZNAME:CST
DTSTART:20251102T020000
TZOFFSETFROM:-0500
TZOFFSETTO:-0600
RDATE:20261101T020000
END:STANDARD
BEGIN:DAYLIGHT
TZNAME:CDT
DTSTART:20260308T020000
TZOFFSETFROM:-0600
TZOFFSETTO:-0500
RDATE:20270314T020000
END:DAYLIGHT
END:VTIMEZONE
BEGIN:VEVENT
UID:b1bfd293-6b6d-4194-b4ab-01a9a8a63825
DTSTAMP:20260421T084432Z
DESCRIPTION:Volunteer with your family or a group to provide evening meals 
 for the women and children staying at First Light. IPC will be providing e
 vening meals April 19-25.
DTSTART;TZID=America/Chicago:20260419T050000
DTEND;TZID=America/Chicago:20260425T050001
LOCATION:
SUMMARY:Provide and Serve Dinner at First Light
END:VEVENT
END:VCALENDAR
