BEGIN:VCALENDAR
VERSION:2.0
PRODID:-//ipc-usa.org//NONSGML kigkonsult.se iCalcreator 2.30.10//
CALSCALE:GREGORIAN
METHOD:PUBLISH
UID:1d7c5a85-1e03-42ab-b2dd-9b8919add304
X-WR-CALDESC:Welcome 6th graders! We're excited to invite the IPC 6th grade
  to fellowship with the Youth Group at Topgolf on Sunday\, May 3 from 12:3
 0 - 2:30 pm. Parents will drop off and pick up at Topgolf. The cost is $30
  and will cover food and golf. Please sign-up!
X-WR-RELCALID:8088084c38560f0e1bac9e1c3c779d87
X-WR-TIMEZONE:America/Chicago
BEGIN:VTIMEZONE
TZID:America/Chicago
BEGIN:STANDARD
TZNAME:CST
DTSTART:20251102T020000
TZOFFSETFROM:-0500
TZOFFSETTO:-0600
RDATE:20261101T020000
END:STANDARD
BEGIN:DAYLIGHT
TZNAME:CDT
DTSTART:20260308T020000
TZOFFSETFROM:-0600
TZOFFSETTO:-0500
RDATE:20270314T020000
END:DAYLIGHT
END:VTIMEZONE
BEGIN:VEVENT
UID:11419260-5e5f-415b-af0e-ddb564fc0802
DTSTAMP:20260422T095706Z
DESCRIPTION:Welcome 6th graders! We're excited to invite the IPC 6th grade 
 to fellowship with the Youth Group at Topgolf on Sunday\, May 3 from 12:30
  - 2:30 pm. Parents will drop off and pick up at Topgolf. The cost is $30 
 and will cover food and golf. Please sign-up!
DTSTART;TZID=America/Chicago:20260503T123000
DTEND;TZID=America/Chicago:20260503T143000
LOCATION:1111 24th St N\, Birmingham\, AL 35234 US
SUMMARY:IPC Youth Topgolf
END:VEVENT
END:VCALENDAR
