BEGIN:VCALENDAR
VERSION:2.0
PRODID:-//ipc-usa.org//NONSGML kigkonsult.se iCalcreator 2.30.10//
CALSCALE:GREGORIAN
METHOD:PUBLISH
UID:9f2e0de5-11b6-43d5-ba58-af73d5706c00
X-WR-CALDESC:We are so proud of our rising 3's who are graduating Toddler A
 trium and moving up to Level 1 next year! Join us for a presentation of a 
 special Bible\, all their own.
X-WR-RELCALID:4216a572126e6df86ab1cabc388f7209
X-WR-TIMEZONE:America/Chicago
BEGIN:VTIMEZONE
TZID:America/Chicago
BEGIN:STANDARD
TZNAME:CST
DTSTART:20251102T020000
TZOFFSETFROM:-0500
TZOFFSETTO:-0600
RDATE:20261101T020000
END:STANDARD
BEGIN:DAYLIGHT
TZNAME:CDT
DTSTART:20260308T020000
TZOFFSETFROM:-0600
TZOFFSETTO:-0500
RDATE:20270314T020000
END:DAYLIGHT
END:VTIMEZONE
BEGIN:VEVENT
UID:15a939fa-cb50-4523-9ec0-9301ef3a45fe
DTSTAMP:20260422T095624Z
DESCRIPTION:We are so proud of our rising 3's who are graduating Toddler At
 rium and moving up to Level 1 next year! Join us for a presentation of a s
 pecial Bible\, all their own.
DTSTART;TZID=America/Chicago:20260503T100000
DTEND;TZID=America/Chicago:20260503T110000
LOCATION:Toddler Atrium
SUMMARY:2's Bible Presentation
END:VEVENT
END:VCALENDAR
