BEGIN:VCALENDAR
VERSION:2.0
PRODID:-//ipc-usa.org//NONSGML kigkonsult.se iCalcreator 2.30.10//
CALSCALE:GREGORIAN
METHOD:PUBLISH
UID:e0a93665-965a-4773-8edc-338f592e6673
X-WR-CALDESC:Join the Lunch Bunch crew for a great meal and fellowship at T
 he Pita Stop. We will meet at the restaurant at 11:30 am. This is a self-p
 ay event\, but please register so we will have an accurate headcount.
X-WR-RELCALID:b1c62bcc63860ac3a403df9c41f411ba
X-WR-TIMEZONE:America/Chicago
BEGIN:VTIMEZONE
TZID:America/Chicago
BEGIN:STANDARD
TZNAME:CST
DTSTART:20251102T020000
TZOFFSETFROM:-0500
TZOFFSETTO:-0600
RDATE:20261101T020000
END:STANDARD
BEGIN:DAYLIGHT
TZNAME:CDT
DTSTART:20260308T020000
TZOFFSETFROM:-0600
TZOFFSETTO:-0500
RDATE:20270314T020000
END:DAYLIGHT
END:VTIMEZONE
BEGIN:VEVENT
UID:2a324eb3-3bbd-475c-98b6-731d8f649954
DTSTAMP:20260422T095947Z
DESCRIPTION:Join the Lunch Bunch crew for a great meal and fellowship at Th
 e Pita Stop. We will meet at the restaurant at 11:30 am. This is a self-pa
 y event\, but please register so we will have an accurate headcount.
DTSTART;TZID=America/Chicago:20260428T113000
DTEND;TZID=America/Chicago:20260428T130000
LOCATION:3908 Crosshaven Dr.\, Vestavia Hills\, AL 35243 US
SUMMARY:Lunch Bunch: The Pita Stop
END:VEVENT
END:VCALENDAR
